BEGIN:VCALENDAR
VERSION:2.0
PRODID:Events Booking
BEGIN:VEVENT
UID:69e89edcb495c
SUMMARY:2025 Healthy KidsFest Vendor Registration
DESCRIPTION:Southern NH KidsFest
 VENDORS WANTED! (see pricing below)
 We
  invite you to join us as a vendor for Healthy KidsFest 2025 on April 12\,
  2025.
 This year we continue our partnership with the YMCA of Greater Na
 shua and together we are blending two events to enhance the experience. 
  The YMCA has an event\, \"Healthy Kids Day\" and combined with our \"Kid
 sFest\" we will now present: \"Healthy KidsFest\".  With the combined nat
 ure of the event we will expect more than 2\,500+ attendees.
 This free 
 community event will be held on Saturday\, April 12\, 2024\,  from 10 am 
 to 1 pm at the Westwood Park Branch of the YMCA of Greater Nashua. A Grea
 t activity for a winter day!
 Are you interested in joining us as a vendo
 r?  Contact Liz Calabria: Liz.Calabria@gmsvcc.org for details
 Click E
 vent Flyer to right to download our 2025 HEALTHY KIDSFEST VENDOR APPLICATI
 ON
 Reservation–  Includes Tables and chairs:            
                               
 1 Table/2 ch
 airs:  GMSVCC member $100/non-mem $130
  2 Tables/4 chairs: GMSVCC memb
 er $165/non-mem $199
 1 Table/2 chairs: Non-Profit GMSVCC member $80/non-
 mem $110
 2 Tables/4 chairs:  Non-Profit GMSVCC member $135/non-mem $170
 
 Electricity is available\, yet space is limited
 $25 per outlet\, base
 d on availability
DTSTART:20250412T140000Z
DTEND:20250412T170000Z
DTSTAMP:20250112T220836Z
ORGANIZER;CN=The Greater Merrimack-Souhegan Valley Chamber of Commerce:MAIL
 TO:office@brentwoodvisual.com
END:VEVENT
END:VCALENDAR