BEGIN:VCALENDAR
VERSION:2.0
PRODID:Events Booking
BEGIN:VEVENT
UID:69e89f3eb6a6a
SUMMARY:Best of the Greater Merrimack Souhegan Valley Region Awards Dinner
DESCRIPTION:Presenting Sponsor:   
 
 Ticket sales open August 18\, 202
 5
 We are looking forward to celebrating with Winners &amp\; Finalists th
 is year at Murphy's Taproom &amp\; Carriage House in Bedford\, NH.
 Enjoy
  cocktail hour\, dinner\, dessert\, a cash bar\, 50/50 raffle (supports ou
 r Scholarship program)\, Raffle Baskets and prizes!
 Important Reservatio
 n Notes:
 
 Each business may purchase individual tickets (1-9 qty.) or 
 a full table (of either 10 or 12 seats) 
 If you would like to purchase a
 n additional table\, we will open a waitlist for second tables and notify 
 you if more become available.
 Tickets are available on a first come\, fi
 rst served basis and must be paid for at the time of purchase.
 Please pr
 ovide us with the names of all of your guests as soon as possible when pur
 chasing multiple tickets.
 Reservation deadline: Monday\, September 15\, 
 by 4:00 pm.
 
 Ticket Pricing: (tickets go on sale Monday\, August 18)

  
 $70 per person for GMSVCC members
 $75 per person for non-members
 T
 able for 10 - $700 for members\, $750 for Non-Members
 Table of 12 - $840
  GMSVCC Members\, $900 for Non-Members 
 
 Tickets are first come first 
 served basis and must be paid for at time of purchase.Reservation deadline
 : Monday\, September 15\, by 4:00 pm
 Award Sponsor:   
  
 Cocktail 
 Hour Sponsor:        
    
LOCATION:393 State Rte 101\, Bedford\, NH 03110\, USA
DTSTART:20250924T213000Z
DTEND:20250925T003000Z
DTSTAMP:20250616T175725Z
ORGANIZER;CN=The Greater Merrimack-Souhegan Valley Chamber of Commerce:MAIL
 TO:office@brentwoodvisual.com
GEO:42.918468;-71.545012
X-APPLE-STRUCTURED-LOCATION;VALUE=URI;X-ADDRESS=393 State Rte 101\, Bedford
 \, NH 03110\, USA;X-APPLE-RADIUS=72;X-TITLE=Murphy's Taproom & Carriage Ho
 use:42.918468;-71.545012
END:VEVENT
END:VCALENDAR