BEGIN:VCALENDAR
VERSION:2.0
PRODID:Events Booking
BEGIN:VEVENT
UID:69e8893031f00
SUMMARY:Business After Hours at Amherst Financial Group
DESCRIPTION:Join us for an evening of networking at Business After Hours ho
 sted by Amherst Financial Group!
 Located in the heart of Amherst Village
 \, Amherst Financial Group is a full-service financial advisory firm dedic
 ated to helping individuals\, families\, and small businesses plan for the
 ir financial future through personalized strategies and expert guidance.

  Come connect with fellow Chamber members and local professionals while le
 arning more about the team’s comprehensive approach to financial plannin
 g\, investment management\, and long-term success. Enjoy a relaxed atmosph
 ere\, great conversations\, and the opportunity to build meaningful busine
 ss relationships.
 Don’t miss this chance to make new connections and s
 trengthen existing ones—we look forward to seeing you there!
LOCATION:8 Main St\, Amherst\, NH 03031\, USA
DTSTART:20260520T213000Z
DTEND:20260520T230000Z
DTSTAMP:20260326T175654Z
ORGANIZER;CN=The Greater Merrimack-Souhegan Valley Chamber of Commerce:MAIL
 TO:office@brentwoodvisual.com
GEO:42.863238;-71.626665
X-APPLE-STRUCTURED-LOCATION;VALUE=URI;X-ADDRESS=8 Main St\, Amherst\, NH 03
 031\, USA;X-APPLE-RADIUS=72;X-TITLE=Amherst Financial Group:42.863238;-71.
 626665
END:VEVENT
END:VCALENDAR