BEGIN:VCALENDAR
VERSION:2.0
PRODID:Events Booking
BEGIN:VEVENT
UID:69e88a4240528
SUMMARY:Chamber Morning Chat
DESCRIPTION:
  
 
 
 
 
 
 
 Chamber Morning Chat ☕
 Start your
  day off right with Chamber Morning Chat!
 Join us each month at our welc
 oming host location\, Pino's Elixir Cafe—a wonderful Chamber member that
  provides the perfect setting for connection\, conversation\, and communit
 y.
 Designed for those who enjoy kicking off their day with meaningful ne
 tworking\, Chamber Morning Chat takes place on the 4th Wednesday of each m
 onth from 8:15–9:15 AM.
 ✨ What to Expect:
 
 Casual networking to 
 start your morning
 A roundtable introduction with your 1-minute pitch
 
 Engaging conversation and connections with fellow members
 
 The café w
 ill be open for your sipping and snacking convenience\, and the Chamber wi
 ll provide coffee\, tea\, water\, and light snacks.
 Come connect\, share
 \, and start your day energized—we look forward to seeing you there!
 
 
 
 
 
 
LOCATION:614 Nashua St unit 8\, Milford\, NH 03055\, USA
DTSTART:20260422T121500Z
DTEND:20260422T131500Z
DTSTAMP:20260216T202114Z
ORGANIZER;CN=The Greater Merrimack-Souhegan Valley Chamber of Commerce:MAIL
 TO:office@brentwoodvisual.com
GEO:42.825116;-71.620564
X-APPLE-STRUCTURED-LOCATION;VALUE=URI;X-ADDRESS=614 Nashua St unit 8\, Milf
 ord\, NH 03055\, USA;X-APPLE-RADIUS=72;X-TITLE=Pino's Elixir Cafe:42.82511
 6;-71.620564
END:VEVENT
END:VCALENDAR