BEGIN:VCALENDAR
VERSION:2.0
PRODID:Events Booking
BEGIN:VEVENT
UID:69e89f446656d
SUMMARY:Comedy Night
DESCRIPTION:Comedy Night
 Ready for some laughs for a great cause? On Satu
 rday\, January 25\, 2025 the Greater Merrimack-Souhegan Valley Chamber of
  Commerce is hosting a Comedy Night Fundraiser in partnership with the Boy
 s &amp\; Girls Club of Souhegan Valley at the Amato Center for Performing 
 Arts in Milford\, NH.
 Featuring the hilarious comedy of Jimmy Dunn.  

  Jimmy Dunn is a stand-up comedian and actor from Boston\, who currently p
 lays “Moose” on the sitcom FRASIER.
 He got his start in comedy telli
 ng jokes in a bar in Gloucester\, Massachusetts\, where he was paid in bee
 r and fried clams. Since then\, he’s gone on to perform at some of the w
 orld’s most prestigious comedy events\, including the Late Show with Dav
 id Letterman\, CONAN\, Montreal’s International Just For Laughs Comedy F
 estival\, and Denis Leary’s Comic’s Come Home in Boston.
 Jimmy’s f
 irst major television role was as Sean McCarthy on the​CBS sitcom\, THE 
 MCCARTHYS. He’s also written on several television projects\, including 
 two episodes of LOUDERMILK that he co-wrote with Academy Award winner Pete
 r Farrelly.
  
 
  A portion of the proceeds will benefit the Boys &a
 mp\; Girls Club of Souhegan Valley.
 Doors open at 7:00 PM for Cocktail H
 our with a cash bar\, candy bar\, raffles\, games and fun. Comedy Show beg
 ins at 8:00 PM.
 Thank you our Main Event Sponsor\, Cardoza Flooring\,
 
 Candy Bar Sponsor: Budget Blinds of Amherst and Nashua 
 Raffle Table Sp
 onsor: Nathan Griffith General Contracting
 This year we are excited to p
 artner with area restaurants who are offering special discount for Comedy 
 Night ticket holders. Visit the following restaurants before or after the 
 show for special discounts:
 
 The Brickhouse Restaurant &amp\; Brewing 
 Co.
 The Hills Restaurant
 Riley’s Place
 Papa Joe's
 
 All are loc
 ated in short distance to the theater and will honor their discount printe
 d on the back of your purchased tickets.
  
LOCATION:54 Mont Vernon St\, Milford\, NH 03055\, USA
DTSTART:20250126T000000Z
DTSTAMP:20241113T233807Z
ORGANIZER;CN=The Greater Merrimack-Souhegan Valley Chamber of Commerce:MAIL
 TO:office@brentwoodvisual.com
GEO:42.838709;-71.653094
X-APPLE-STRUCTURED-LOCATION;VALUE=URI;X-ADDRESS=54 Mont Vernon St\, Milford
 \, NH 03055\, USA;X-APPLE-RADIUS=72;X-TITLE=The Amato Center for Performin
 g Arts:42.838709;-71.653094
END:VEVENT
END:VCALENDAR