BEGIN:VCALENDAR
VERSION:2.0
PRODID:Events Booking
BEGIN:VEVENT
UID:69e89f3eaa183
SUMMARY:Comedy Night 
DESCRIPTION:⭐ Comedy Night
 A Night of Laughs for a Great Cause!
 Ready
  for some laughs for a great cause? On Saturday\, January 24\, 2026\, the 
 Greater Merrimack–Souhegan Valley Chamber of Commerce is hosting a Comed
 y Night Fundraiser in partnership with the Boys &amp\; Girls Club of Souhe
 gan Valley at the Amato Center for Performing Arts in Milford\, NH.
 This
  year’s show features three incredible New England comedians:🎤 Headli
 ner Frank Santorelli🎤 Kristy Kielbasinski🎤 Mitch Stinson
 A portion
  of the proceeds will benefit the Boys &amp\; Girls Club of Souhegan Valle
 y.
 Doors open at 6:30 PM for Cocktail Hour with a cash bar\, candy bar\
 , raffles\, games and fun.Comedy Show begins at 8:00 PM.
 Tickets: $40/pp
 
 ⭐ Thank you to our Sponsors
 Main Event Sponsor: Cardoza Flooring  
   Candy Bar Sponsor: Budget Blinds of Amherst and NashuaPhoto Booth Spon
 sor: The Dance Co.Raffle Table Sponsor: YMCA of Greater NashuaComedy Club 
 Cocktail Sponsor:
 ⭐ Restaurant Partners
 We proudly partner with area
  Chamber member restaurants who offer exclusive discounts to our Comedy Ni
 ght ticket holders. Enjoy a great meal before the show and support local b
 usinesses!
 Our Restaurant Partners:⭐ Brickhouse Restaurant &amp\; Brew
 ery –  Enjoy 20% off your food bill with your Comedy Night ticket!
 
 ⭐ Murphy's Taproom &amp\; Carriage House – Enjoy 20% off your food bil
 l with your Comedy Night ticket!
 Stay tuned as more local restaurants jo
 in the fun!
LOCATION:54 Mont Vernon St\, Milford\, NH 03055\, USA
DTSTART:20260124T233000Z
DTSTAMP:20251031T011052Z
ORGANIZER;CN=The Greater Merrimack-Souhegan Valley Chamber of Commerce:MAIL
 TO:office@brentwoodvisual.com
GEO:42.838709;-71.653094
X-APPLE-STRUCTURED-LOCATION;VALUE=URI;X-ADDRESS=54 Mont Vernon St\, Milford
 \, NH 03055\, USA;X-APPLE-RADIUS=72;X-TITLE=The Amato Center for Performin
 g Arts:42.838709;-71.653094
END:VEVENT
END:VCALENDAR