BEGIN:VCALENDAR
VERSION:2.0
PRODID:Events Booking
BEGIN:VEVENT
UID:69e7a43ba473d
SUMMARY:Informational Session for Goldman Sachs 10\,000 Small Businesses Sp
 ring 2026 Cohort
DESCRIPTION:Join us on October 22nd  for
 10KSB\, New Hampshire’s best 
 kept business resource for business growth.
 Goldman Sachs 10\,000 Small
  Businesses (or 10KSB) is one of the states best secrets when it comes to 
 business growth. 10KSB is specifically for established businesses who want
  to achieve the next level of success through scaling and finding new grow
 th opportunities. Whether your goal is to grow in revenue\, create jobs or
  increase your business footprint\, the 10KSB program can help you break t
 hrough challenges to achieve your goals.
 Carol Recchion\, the director o
 f the N.H. 10KSB will be leading the discussion to help you know more abou
 t the 10KSB program and if it is right for you.
  
 Who Should Attend:
 
 Any business owner or nonprofit leader who wants to scale and grow their
  business.
  
 Participants will Learn:
 ·         How the 10
 KSB program differs from other business resources in the state
 ·   
       The program’s inclusions\, process and impact
 ·     
     Additional information about the value-added aspects of the program
 
 ·         Application criteria and process of selection
 · 
         How to apply
 Best of all business owners/nonprofit leader
 s who are chosen receive a full paid scholarship for the program\, there i
 s never a cost to the business owner!
  
LOCATION:69 Route 101A\, Amherst\, NH 03031
DTSTART:20251022T130000Z
DTEND:20251022T140000Z
DTSTAMP:20250925T192547Z
ORGANIZER;CN=The Greater Merrimack-Souhegan Valley Chamber of Commerce:MAIL
 TO:office@brentwoodvisual.com
GEO:42.810782;-71.586143
X-APPLE-STRUCTURED-LOCATION;VALUE=URI;X-ADDRESS=69 Route 101A\, Amherst\, N
 H 03031;X-APPLE-RADIUS=72;X-TITLE=Chamber Offices:42.810782;-71.586143
END:VEVENT
END:VCALENDAR