BEGIN:VCALENDAR
VERSION:2.0
PRODID:Events Booking
BEGIN:VEVENT
UID:69e88e656ae50
SUMMARY:Lunch 'N Leads
DESCRIPTION:
 
 
 
 Join us for Lunch 'N Leads.Bring your business card
 s and your best elevator pitch.Meet and network with your fellow Chamber m
 embers in a relaxed atmosphere.
 Preregistration is required as lunch is 
 provided.  Preregistered guests will be entered to win a $25 gift card to
  a local member business. *Must be present to win.  Thank you to our Gift
  Card Sponsor:  The Dance Company
 Out of respect for all\, please arriv
 e on time and plan to stay until all guests have shared their pitch. This 
 event typically ends by 1:00 PM.
 Lunch is included and sponsored by:
 T
 he Brickhouse Restaurant &amp\; Brewery
 
 
 
 
LOCATION:69 Route 101A\, Amherst\, NH 03031
DTSTART:20260507T160000Z
DTEND:20260507T170000Z
DTSTAMP:20260220T033123Z
ORGANIZER;CN=The Greater Merrimack-Souhegan Valley Chamber of Commerce:MAIL
 TO:office@brentwoodvisual.com
GEO:42.810782;-71.586143
X-APPLE-STRUCTURED-LOCATION;VALUE=URI;X-ADDRESS=69 Route 101A\, Amherst\, N
 H 03031;X-APPLE-RADIUS=72;X-TITLE=Chamber Offices:42.810782;-71.586143
END:VEVENT
END:VCALENDAR