BEGIN:VCALENDAR
VERSION:2.0
PRODID:Events Booking
BEGIN:VEVENT
UID:69e889e5a781c
SUMMARY:Now that you have an AI clone!  What do you do with it?
DESCRIPTION:Now that you have an AI clone!  What do you do with it?
 Prer
 equisite:  Attendees must have an operating AI clone from previous class 
 that was held on March 13\, 2026: AI Clone Lab: Create Your Personalized A
 I Assistant That Thinks &amp\; Writes Like You
 Led by Terry Lajoie\, Laj
 oie Home Team\, this class will take you through how to use what you learn
 ed by creating your AI Clone and now what to do with it.
 Email Liz Calab
 ria to register:  Liz.Calabria@gmsvcc.org
LOCATION:69 Route 101A\, Amherst\, NH 03031
DTSTART:20260422T170000Z
DTEND:20260422T180000Z
DTSTAMP:20260330T201129Z
ORGANIZER;CN=The Greater Merrimack-Souhegan Valley Chamber of Commerce:MAIL
 TO:office@brentwoodvisual.com
GEO:42.810782;-71.586143
X-APPLE-STRUCTURED-LOCATION;VALUE=URI;X-ADDRESS=69 Route 101A\, Amherst\, N
 H 03031;X-APPLE-RADIUS=72;X-TITLE=Chamber Offices:42.810782;-71.586143
END:VEVENT
END:VCALENDAR