BEGIN:VCALENDAR
VERSION:2.0
PRODID:Events Booking
BEGIN:VEVENT
UID:69ea32b8884c9
SUMMARY:Referral Group (Mondays)
DESCRIPTION:Ask about our GMSVCC Referral Group today! This is a low-cost w
 eekly opportunity for Chamber members to develop deeper relationships with
  other business owners to learn more about each other’s businesses and p
 rovide referrals to each other\; it is more formal and requires greater co
 mmitment than most other networking gatherings.
 Meets every Monday 12:00
  - 1:00 PM at the Chamber Offices. Open networking from 11:30 AM - 12:00 P
 M optional.
 Contact the Chamber at: info@gmsvcc.org for more informatio
 n.
LOCATION:69 Route 101A\, Amherst\, NH 03031
DTSTART:20260427T160000Z
DTSTAMP:20260423T013136Z
ORGANIZER;CN=The Greater Merrimack-Souhegan Valley Chamber of Commerce:MAIL
 TO:office@brentwoodvisual.com
GEO:42.810782;-71.586143
X-APPLE-STRUCTURED-LOCATION;VALUE=URI;X-ADDRESS=69 Route 101A\, Amherst\, N
 H 03031;X-APPLE-RADIUS=72;X-TITLE=Chamber Offices:42.810782;-71.586143
END:VEVENT
END:VCALENDAR