BEGIN:VCALENDAR
VERSION:2.0
PRODID:Events Booking
BEGIN:VEVENT
UID:69e889e9e9a42
SUMMARY:Ribbon Cutting to Welcome Party City to Staples
DESCRIPTION:Join us for a Ribbon Cutting to help Staples and Party City cel
 ebrate their new partnership!
  
 Staples and Party City Partner to Bri
 ng a Complete One‑Stop Party Solution to Customers 
 Staples is proud 
 to announce a new partnership with Party City\, bringing Party City’s po
 pular décor\, balloons\, and celebration essentials into participating St
 aples stores. This collaboration allows customers to plan their entire eve
 nt in one place\, supported by Staples’ full range of custom print servi
 ces. 
 Customers can now shop themed decorations\, enjoy balloon‑fi
 lling services\, and create personalized invitations\, banners\, posters\,
  signs\, and more\, all with convenient same‑day options. 
  
 We ar
 e very excited to expand our service and product offerings. This is a grea
 t match that brings our community something that just makes sense - all of
  the party supplies you could need paired with the expert print services a
 t Staples to support any celebration!
  
 Pre-register at the link prov
 ided.  This event is open to all.
LOCATION:124 State Rte 101 #13\, Amherst\, NH 03031\, USA
DTSTART:20260430T170000Z
DTEND:20260430T180000Z
DTSTAMP:20260314T183832Z
ORGANIZER;CN=The Greater Merrimack-Souhegan Valley Chamber of Commerce:MAIL
 TO:office@brentwoodvisual.com
GEO:42.871584;-71.613734
X-APPLE-STRUCTURED-LOCATION;VALUE=URI;X-ADDRESS=124 State Rte 101 #13\, Amh
 erst\, NH 03031\, USA;X-APPLE-RADIUS=72;X-TITLE=Staples in Amherst:42.8715
 84;-71.613734
END:VEVENT
END:VCALENDAR