BEGIN:VCALENDAR
VERSION:2.0
PRODID:Events Booking
BEGIN:VEVENT
UID:69e88ab02368f
SUMMARY:WILD ~ Women Inspiring Leadership Development
DESCRIPTION:Join us for this monthly meetup that will inspire and energize 
 you.Exciting topics are planned for discussion and interaction.
 We are e
 xcited to gather with other professional women for some great discussions.
 
 Bring your business cards to share and get ready for a WILD experience!
LOCATION:135 State Rte 101\, Amherst\, NH 03031\, USA
DTSTART:20260501T130000Z
DTEND:20260501T140000Z
DTSTAMP:20260220T030859Z
ORGANIZER;CN=The Greater Merrimack-Souhegan Valley Chamber of Commerce:MAIL
 TO:office@brentwoodvisual.com
GEO:42.871588;-71.61377
X-APPLE-STRUCTURED-LOCATION;VALUE=URI;X-ADDRESS=135 State Rte 101\, Amherst
 \, NH 03031\, USA;X-APPLE-RADIUS=72;X-TITLE=O'Shea's Caife & Tae:42.871588
 ;-71.61377
END:VEVENT
END:VCALENDAR