BEGIN:VCALENDAR
VERSION:2.0
PRODID:Events Booking
BEGIN:VEVENT
UID:69e88f8faf211
SUMMARY:YPN Mixer at Junction 71
DESCRIPTION:Join us for a fun and relaxed evening of networking at our upco
 ming Young Professionals Network Mixer at Junction 71!
 Connect with fell
 ow young professionals from across the region\, build new relationships\, 
 and expand your network in a welcoming\, high-energy atmosphere.
 Whether
  you're new to the area or looking to grow your circle\, this is the perfe
 ct opportunity to mix\, mingle\, and make meaningful connections.
 Refres
 hments &amp\; Raffles!
 YPN events are open to GMSVCC members and their g
 uests.
 All attendees must be pre-registered here.
DTSTART:20260512T210000Z
DTEND:20260512T223000Z
DTSTAMP:20260417T192157Z
ORGANIZER;CN=The Greater Merrimack-Souhegan Valley Chamber of Commerce:MAIL
 TO:office@brentwoodvisual.com
END:VEVENT
END:VCALENDAR