BEGIN:VCALENDAR
VERSION:2.0
PRODID:Events Booking
BEGIN:VEVENT
UID:69e88890dd727
SUMMARY:YPN Volunteer Day at the Humane Society of Greater Nashua
DESCRIPTION:🐾 Young Professionals Network Volunteer Day: Humane Society 
 of Greater Nashua 🐾
 Step away from your usual networking routine this
  month and join us for a meaningful afternoon of giving back!
 In lieu of
  our traditional Young Professionals Networking event\, we’re partnering
  with Humane Society for Greater Nashua for a special volunteer opportunit
 y. This is a great chance to connect with fellow young professionals while
  supporting an incredible organization dedicated to caring for animals in 
 our community.
 What to Expect:Volunteers will assist with tasks as neede
 d at the shelter and enjoy a behind-the-scenes tour of the facility. You
 ’ll have the opportunity to meet the dedicated team and learn more about
  the important work they do for animals in need.
 While you’ll get to s
 ee cats\, dogs\, and small animals during your visit\, please note that di
 rect interaction with animals cannot be guaranteed. The comfort and well-b
 eing of the animals always comes first—but if there’s an opportunity f
 or a meet-and-greet\, we’ll gladly take it!
 Volunteer Details:🕒 Two
 -hour volunteer shifts available👥 Limited spots available per shift📍
  Location details provided upon registration
 Why Join Us?✔ Give back t
 o the community✔ Connect with fellow YPN members in a meaningful way✔ 
 Learn more about a valued nonprofit organization✔ Experience something a
  little different (and rewarding!)
 👉 Spots are limited—advance regi
 stration is required. Sign up today to reserve your shift!
LOCATION:24 Ferry Rd\, Nashua\, NH 03064\, USA
DTSTART:20260428T140000Z
DTEND:20260428T170000Z
DTSTAMP:20260330T203223Z
ORGANIZER;CN=The Greater Merrimack-Souhegan Valley Chamber of Commerce:MAIL
 TO:office@brentwoodvisual.com
GEO:42.781315;-71.488066
X-APPLE-STRUCTURED-LOCATION;VALUE=URI;X-ADDRESS=24 Ferry Rd\, Nashua\, NH 0
 3064\, USA;X-APPLE-RADIUS=72;X-TITLE=Humane Society of Greater Nashua:42.7
 81315;-71.488066
END:VEVENT
END:VCALENDAR