BEGIN:VCALENDAR
VERSION:2.0
PRODID:Events Booking
BEGIN:VEVENT
UID:69e88f03693ed
SUMMARY:YPN Volunteer Day at Touchstone Farm
DESCRIPTION:Young Professionals Network Volunteer Opportunity – Touchston
 e Farm
 Join the Young Professionals Network (YPN) of the Greater Merrima
 ck-Souhegan Valley Chamber for a meaningful afternoon of community service
  and connection!
 We’re excited to partner with Touchstone Farm in Lynd
 eborough for a hands-on volunteer opportunity on Wednesday\, April 29\, 20
 26 from 1:00–3:00 PM. This is a wonderful chance to give back to a local
  organization\, meet fellow young professionals\, and build new connection
 s in a relaxed and rewarding environment.
 Whether you're looking to get 
 more involved in the community or simply spend a few hours doing something
  impactful\, we’d love to have you join us.
 Pre-registration is requir
 ed. Once you sign up\, additional details will be shared with you prior to
  the event.
 Come lend a hand\, make a difference\, and connect with YPN
 —we hope to see you there!
LOCATION:233 Old Temple Rd\, Lyndeborough\, NH 03082\, USA
DTSTART:20260429T170000Z
DTEND:20260429T190000Z
DTSTAMP:20260322T175843Z
ORGANIZER;CN=The Greater Merrimack-Souhegan Valley Chamber of Commerce:MAIL
 TO:office@brentwoodvisual.com
GEO:42.884343;-71.817246
X-APPLE-STRUCTURED-LOCATION;VALUE=URI;X-ADDRESS=233 Old Temple Rd\, Lyndebo
 rough\, NH 03082\, USA;X-APPLE-RADIUS=72;X-TITLE=Touchstone Farm:42.884343
 ;-71.817246
END:VEVENT
END:VCALENDAR