BEGIN:VCALENDAR
VERSION:2.0
PRODID:Events Booking
BEGIN:VEVENT
UID:69e888ccc26bf
SUMMARY:YPN Volunteer Opportunity Community Baby Shower Day of Caring
DESCRIPTION:Young Professionals Network Volunteer Opportunity – Community
  Baby Shower
 Join the Young Professionals Network (YPN) of the Greater M
 errimack-Souhegan Valley Chamber for a meaningful volunteer experience wit
 h the United Way of Greater Nashua!
 We’re excited to support the annua
 l Community Baby Shower – Day of Caring on Wednesday\, April 22\, 2026\,
  a heartfelt initiative that helps local new and expecting parents access 
 essential baby items\, resources\, and community support.
 Volunteers wil
 l play an important role in creating a welcoming and organized experience 
 for families—whether assisting with setup\, supporting the Baby Boutique
 \, or helping the event run smoothly. This is a wonderful opportunity to g
 ive back\, connect with fellow young professionals\, and make a real impac
 t in the lives of families in our region.
 Multiple volunteer time slots 
 are available.👉 Sign up here: https://www.volunteergreaternashua.org/ne
 ed/detail/?need_id=1225008
 Come be part of this special day of caring—
 together we can help ensure every baby gets a strong start!
DTSTART:20260422T160000Z
DTEND:20260422T190000Z
DTSTAMP:20260324T235542Z
ORGANIZER;CN=The Greater Merrimack-Souhegan Valley Chamber of Commerce:MAIL
 TO:office@brentwoodvisual.com
END:VEVENT
END:VCALENDAR